BEGIN:VCALENDAR
VERSION:2.0
PRODID:-//CityHill Church Amanzimtoti - ECPv6.15.20//NONSGML v1.0//EN
CALSCALE:GREGORIAN
METHOD:PUBLISH
X-ORIGINAL-URL:https://cityhilltoti.co.za
X-WR-CALDESC:Events for CityHill Church Amanzimtoti
REFRESH-INTERVAL;VALUE=DURATION:PT1H
X-Robots-Tag:noindex
X-PUBLISHED-TTL:PT1H
BEGIN:VTIMEZONE
TZID:Europe/Helsinki
BEGIN:DAYLIGHT
TZOFFSETFROM:+0200
TZOFFSETTO:+0300
TZNAME:EEST
DTSTART:20210328T010000
END:DAYLIGHT
BEGIN:STANDARD
TZOFFSETFROM:+0300
TZOFFSETTO:+0200
TZNAME:EET
DTSTART:20211031T010000
END:STANDARD
BEGIN:DAYLIGHT
TZOFFSETFROM:+0200
TZOFFSETTO:+0300
TZNAME:EEST
DTSTART:20220327T010000
END:DAYLIGHT
BEGIN:STANDARD
TZOFFSETFROM:+0300
TZOFFSETTO:+0200
TZNAME:EET
DTSTART:20221030T010000
END:STANDARD
BEGIN:DAYLIGHT
TZOFFSETFROM:+0200
TZOFFSETTO:+0300
TZNAME:EEST
DTSTART:20230326T010000
END:DAYLIGHT
BEGIN:STANDARD
TZOFFSETFROM:+0300
TZOFFSETTO:+0200
TZNAME:EET
DTSTART:20231029T010000
END:STANDARD
BEGIN:DAYLIGHT
TZOFFSETFROM:+0200
TZOFFSETTO:+0300
TZNAME:EEST
DTSTART:20240331T010000
END:DAYLIGHT
BEGIN:STANDARD
TZOFFSETFROM:+0300
TZOFFSETTO:+0200
TZNAME:EET
DTSTART:20241027T010000
END:STANDARD
BEGIN:DAYLIGHT
TZOFFSETFROM:+0200
TZOFFSETTO:+0300
TZNAME:EEST
DTSTART:20250330T010000
END:DAYLIGHT
BEGIN:STANDARD
TZOFFSETFROM:+0300
TZOFFSETTO:+0200
TZNAME:EET
DTSTART:20251026T010000
END:STANDARD
BEGIN:DAYLIGHT
TZOFFSETFROM:+0200
TZOFFSETTO:+0300
TZNAME:EEST
DTSTART:20260329T010000
END:DAYLIGHT
BEGIN:STANDARD
TZOFFSETFROM:+0300
TZOFFSETTO:+0200
TZNAME:EET
DTSTART:20261025T010000
END:STANDARD
END:VTIMEZONE
BEGIN:VEVENT
DTSTART;TZID=Europe/Helsinki:20250418T060000
DTEND;TZID=Europe/Helsinki:20250418T090000
DTSTAMP:20260419T175606
CREATED:20250402T130345Z
LAST-MODIFIED:20250402T131438Z
UID:1657-1744956000-1744966800@cityhilltoti.co.za
SUMMARY:Sunrise Service
DESCRIPTION:
URL:https://cityhilltoti.co.za/event/sunrise-service/
END:VEVENT
BEGIN:VEVENT
DTSTART;TZID=Europe/Helsinki:20220911T093000
DTEND;TZID=Europe/Helsinki:20220911T103000
DTSTAMP:20260419T175606
CREATED:20220907T111245Z
LAST-MODIFIED:20220908T213204Z
UID:1268-1662888600-1662892200@cityhilltoti.co.za
SUMMARY:Worlds Collide - Sermon Series
DESCRIPTION:
URL:https://cityhilltoti.co.za/event/worlds-collide-sermon-series/
LOCATION:CityHill Amanzimtoti\, Highway Road\, Amanzimtoti\, Kwazulu-Natal\, 4126\, South Africa
END:VEVENT
END:VCALENDAR